BEGIN:VCALENDAR
VERSION:2.0
PRODID:-//ChamberMaster//Event Calendar 2.0//EN
METHOD:PUBLISH
X-PUBLISHED-TTL:P3D
REFRESH-INTERVAL:P3D
CALSCALE:GREGORIAN
BEGIN:VEVENT
DTSTART:20150128T153000Z
DTEND:20150128T170000Z
X-MICROSOFT-CDO-ALLDAYEVENT:FALSE
SUMMARY:Long Beach Young Professionals Networking Breakfast
DESCRIPTION:Ryan J. Choura is a creative event visionary and founder of Choura Events\, a Southbay based boutique event rental company known for design\, style\, innovative products and large-scale event builds.\n\n After a 15-year career in venue management and marketing\, with a focus on social events\, galas and weddings\, he purchased Anza Party Rentals as the foundation for his true passion to create better events.   He wanted to streamline the process for clients by providing one point of contact   a dedicated event professional   to help execute events of any scale. Instead of juggling several inexperienced vendors\, he set out to build the one-stop-shop for homeowners\, corporate clients and event industry experts.\n\n As a result\, Choura Events has emerged as a top 5 tenting company in the Western United States and has been chosen to execute events including the Electric Daisy Carnival\, The Taste in Beverly Hills\, Weinstein Company's Golden Globes After Party\, Manhattan Wine Auction and a long list of non-profit galas\, corporate gatherings and celebrations across California.\n\n Among his numerous accolades spanning the last decade\, Choura earned a nod in theTop 100 Fastest Growing Private Companies of 2013 list by the Los Angeles Business Journal\, named a '30 Up and Coming' event expert to watch by Special Events Magazine and was profiled in the CEO Centerfold for OC Metro in 2010.
X-ALT-DESC;FMTTYPE=text/html:<blockquote style="color: rgb(34\, 34\, 34)\; line-height: normal\; font-family: arial\, sans-serif\; font-size: 13px\; font-style: normal\;" type="cite">\n<p style="margin: 0px 0px 15px\; padding: 0px\; line-height: 1.4em\; font-family: &quot\;Century Gothic&quot\;\, &quot\;Apple Gothic&quot\;\, AppleGothic\, &quot\;URW Gothic L&quot\;\, &quot\;Avant Garde&quot\;\, Futura\, arial\, sans-serif\;"><span style="font-size: 12px\;">Ryan J. Choura is a creative event visionary and founder of Choura Events\, a Southbay based boutique event rental company known for design\, style\, innovative products and large-scale event builds.</span></p>\n\n<p style="margin: 0px 0px 15px\; padding: 0px\; line-height: 1.4em\; font-family: &quot\;Century Gothic&quot\;\, &quot\;Apple Gothic&quot\;\, AppleGothic\, &quot\;URW Gothic L&quot\;\, &quot\;Avant Garde&quot\;\, Futura\, arial\, sans-serif\;"><span style="font-size: 12px\;">&nbsp\;<span style="line-height: 1.4em\;">After a 15-year career in venue management and marketing\, with a focus on social events\, galas and weddings\, he purchased Anza Party Rentals as the foundation for his true passion to create better events.&nbsp\;&nbsp\; He wanted to streamline the process for clients by providing one point of contact &ndash\; a dedicated event professional &ndash\; to help execute events of any scale. Instead of juggling several inexperienced vendors\, he set out to build the one-stop-shop for homeowners\, corporate clients and event industry experts.</span></span></p>\n\n<p style="margin: 0px 0px 15px\; padding: 0px\; line-height: 1.4em\; font-family: &quot\;Century Gothic&quot\;\, &quot\;Apple Gothic&quot\;\, AppleGothic\, &quot\;URW Gothic L&quot\;\, &quot\;Avant Garde&quot\;\, Futura\, arial\, sans-serif\;"><span style="font-size: 12px\;">&nbsp\;<span style="line-height: 1.4em\;">As a result\, Choura Events has emerged&nbsp\;as a top 5 tenting company in the Western United States and has been&nbsp\;chosen to execute events including the Electric Daisy Carnival\, The Taste in Beverly Hills\, Weinstein Company&rsquo\;s Golden Globes After Party\, Manhattan Wine Auction and a long list of non-profit galas\, corporate gatherings and celebrations across California.</span></span></p>\n\n<p style="margin: 0px 0px 15px\; padding: 0px\; line-height: 1.4em\; font-family: &quot\;Century Gothic&quot\;\, &quot\;Apple Gothic&quot\;\, AppleGothic\, &quot\;URW Gothic L&quot\;\, &quot\;Avant Garde&quot\;\, Futura\, arial\, sans-serif\;"><span style="font-size: 12px\;">&nbsp\;<span style="line-height: 1.4em\;">Among his numerous accolades spanning the last decade\, Choura earned a nod in </span><span style="line-height: 1.4em\;">the</span><em style="margin: 0px\; padding: 0px\; line-height: 1.4em\;">Top</em><em style="margin: 0px\; padding: 0px\; line-height: 1.4em\;"> 100 Fastest Growing Private Companies of 2013&nbsp\;</em><span style="line-height: 1.4em\;">list by the Los Angeles Business Journal\, named a &rsquo\;30 Up and Coming&rsquo\; event expert to watch by Special Events Magazine and was profiled in the CEO Centerfold for</span><span style="line-height: 1.4em\;">&nbsp\;</span><em style="margin: 0px\; padding: 0px\; line-height: 1.4em\;">OC Metro</em><span style="line-height: 1.4em\;">&nbsp\;in 2010.</span></span></p>\n</blockquote>\n
LOCATION:Long Beach Yacht Club 6201 E. Appian Way Long Beach\, CA 90803
UID:e.1956.2359
SEQUENCE:3
DTSTAMP:20260422T023856Z
URL:https://business.lbchamber.com/events/details/long-beach-young-professionals-networking-breakfast-01-28-2015-2359
END:VEVENT

END:VCALENDAR
