BEGIN:VCALENDAR
VERSION:2.0
PRODID:-//ChamberMaster//Event Calendar 2.0//EN
METHOD:PUBLISH
X-PUBLISHED-TTL:P3D
REFRESH-INTERVAL:P3D
CALSCALE:GREGORIAN
BEGIN:VEVENT
DTSTART:20160127T153000Z
DTEND:20160127T170000Z
X-MICROSOFT-CDO-ALLDAYEVENT:FALSE
SUMMARY:Long Beach Young Professionals Networking Breakfast
DESCRIPTION:As the elected City Auditor of Long Beach\, Laura Doud leads the only department within the City that provides an independent review of City operations and spending without bias or pre-determined outcomes. Laura and her staff work on citizens' behalf to improve Long Beach by focusing on internal improvements that enhance work quality and provide increased value to the City.\n\n\n\nLaura was first elected in 2006 and re-elected\, running unopposed in 2010 and 2014. She is one of only four elected City Auditors in California   giving Long Beach the benefit of having a truly independent City Auditor. In addition to completing significant reports such as audits of the Long Beach Police Department and the Queen Mary\, her Office has conducted nationally recognized\, award-winning audits of the Long Beach Museum of Art\, the City's Towing Operations and Parking Citations Collections Process. She played a key role in the passage of Proposition H\, a voter-approved referendum that resulted in raising more than $3.5 million annually for public safety. \n\n\n\nIn addition to her public service\, Laura supports many community organizations. She is a member of the Long Beach Rotary Club and serves on the Honorary Board of Governors of Leadership Long Beach. Laura graduated from California State University\, Long Beach with a degree in accounting and earned her law degree (JD) at Pacific Coast University School of Law. She is a Certified Public Accountant (CPA) and Certified Fraud Examiner (CFE).
X-ALT-DESC;FMTTYPE=text/html:As the elected City Auditor of Long Beach\, Laura Doud leads the only department within the City that provides an independent review of City operations and spending without bias or pre-determined outcomes. Laura and her staff work on citizens&rsquo\; behalf to improve Long Beach by focusing on internal improvements that enhance work quality and provide increased value to the City.<br />\n<br />\nLaura was first elected in 2006 and re-elected\, running unopposed in 2010 and 2014. She is one of only four elected City Auditors in California &ndash\; giving Long Beach the benefit of having a truly independent City Auditor. I<span style="background-image:initial\;background-attachment:initial\;background-size:initial\;background-origin:initial\;background-clip:initial\;background-position:initial\;background-repeat:initial\;"><span style="color:black\;">n addition to completing significant reports such as audits of the Long Beach Police Department and the Queen Mary\, her Office has conducted nationally recognized\, award-winning audits of the Long Beach Museum of Art\, the City&rsquo\;s Towing Operations and Parking Citations Collections Process. She played a key role in the passage of Proposition H\, a voter-approved referendum that resulted in raising more than $3.5 million annually for public safety.&nbsp\;</span></span><br />\n<br />\n<span style="background-image:initial\;background-attachment:initial\;background-size:initial\;background-origin:initial\;background-clip:initial\;background-position:initial\;background-repeat:initial\;"><span style="color:black\;">In addition to her public service\, Laura supports many community organizations. She is a member of the Long Beach Rotary Club and serves on the Honorary Board of Governors of Leadership Long Beach. Laura graduated from California State University\, Long Beach with a degree in accounting and earned her law degree (JD) at Pacific Coast University School of Law. She is a Certified Public Accountant (CPA) and Certified Fraud Examiner (CFE).&nbsp\;</span></span>
LOCATION:Holiday Inn Long Beach Airport & Conference Center 2640 N. Lakewood Blvd. Long Beach\, CA 90815
UID:e.1956.2562
SEQUENCE:3
DTSTAMP:20260420T171837Z
URL:https://business.lbchamber.com/events/details/long-beach-young-professionals-networking-breakfast-01-27-2016-2562
END:VEVENT

END:VCALENDAR
