BEGIN:VCALENDAR
VERSION:2.0
PRODID:-//ChamberMaster//Event Calendar 2.0//EN
METHOD:PUBLISH
X-PUBLISHED-TTL:P3D
REFRESH-INTERVAL:P3D
CALSCALE:GREGORIAN
BEGIN:VEVENT
DTSTART:20141120T013000Z
DTEND:20141120T033000Z
X-MICROSOFT-CDO-ALLDAYEVENT:FALSE
SUMMARY:Long Beach Young Professionals Mixer: Speed Networking
DESCRIPTION:Halbert Hargrove will host a unique twist on networking\, "Speed Networking." Since the Young Professionals group is so fresh\, we thought it would be a good time to get everyone acquainted with each other quickly. Bring plenty of business cards and have your elevator pitch ready. We will rotate through groups so that you have a chance to hear what everyone is all about. Drinks and appetizers will follow on the balcony.
X-ALT-DESC;FMTTYPE=text/html:Halbert Hargrove&nbsp\;will host a unique twist on networking\, &quot\;Speed Networking.&quot\; Since the Young Professionals group is so fresh\, we thought it would be a good time to get everyone acquainted with each other quickly. Bring plenty of business cards and have your elevator pitch ready. We will rotate through groups so that you have a chance to hear what everyone is all about. Drinks and appetizers will follow on the balcony.
LOCATION:Halbert Hargrove 111 W. Ocean Blvd.\, 23rd Floor Long Beach\, CA 90802
UID:e.1956.2333
SEQUENCE:3
DTSTAMP:20260422T045514Z
URL:https://business.lbchamber.com/events/details/long-beach-young-professionals-mixer-speed-networking-11-19-2014-2333
END:VEVENT

END:VCALENDAR
