BEGIN:VCALENDAR
VERSION:2.0
PRODID:-//ChamberMaster//Event Calendar 2.0//EN
METHOD:PUBLISH
X-PUBLISHED-TTL:P3D
REFRESH-INTERVAL:P3D
CALSCALE:GREGORIAN
BEGIN:VEVENT
DTSTART:20161101T143000Z
DTEND:20161101T160000Z
X-MICROSOFT-CDO-ALLDAYEVENT:FALSE
SUMMARY:Long Beach Young Professionals Breakfast - November 2016
DESCRIPTION:David Shing is AOL's Digital Prophet\, regularly speaking at conferences worldwide\, discussing the latest trends and the future of the web\, providing his insight on the evolving digital landscape and works across the globe to identify new opportunities for the business. \n\n \n\nPrior to moving to New York\, David was based in London as VP Media & Marketing for AOL Europe. He originally joined the company as their European Marketing Director.\n\n \n\nDavid has spent more than 15 years helping build successful web technology start-ups and multimedia businesses in the US and Australia and is the holder of several Internet technology related patents.\n\n \n\nBy night he is an accidental songwriter.
X-ALT-DESC;FMTTYPE=text/html:<span style="color:#222222\;"><span style="font-family:arial\,sans-serif\;"><span style="font-size:9.5pt\;">David Shing is AOL&rsquo\;s Digital Prophet\, regularly speaking at conferences worldwide\, discussing the latest trends and the future of the web\, providing his insight on the evolving digital landscape and works across the globe to identify new opportunities for the business.&nbsp\;</span></span></span><br />\n&nbsp\;<br />\n<span style="color:#222222\;"><span style="font-family:arial\,sans-serif\;"><span style="font-size:9.5pt\;">Prior to moving to New York\, David was based in London as VP Media &amp\; Marketing for AOL Europe. He originally joined the company as their European Marketing Director.</span></span></span><br />\n&nbsp\;<br />\n<span style="color:#222222\;"><span style="font-family:arial\,sans-serif\;"><span style="font-size:9.5pt\;">David has spent more than 15 years helping build successful web technology start-ups and multimedia businesses in the US and Australia and is the holder of several Internet technology related patents.</span></span></span><br />\n&nbsp\;<br />\n<span style="color:#222222\;"><span style="font-family:arial\,sans-serif\;"><span style="font-size:9.5pt\;">By night he is an accidental songwriter.&nbsp\;</span></span></span>
LOCATION:Holiday Inn Long Beach Airport Hotel & Convention Center 2640 N Lakewood Blvd Long Beach\, CA 90815
UID:e.1956.3018
SEQUENCE:3
DTSTAMP:20260420T025334Z
URL:https://business.lbchamber.com/events/details/long-beach-young-professionals-breakfast-november-2016-3018
END:VEVENT

END:VCALENDAR
