BEGIN:VCALENDAR
VERSION:2.0
PRODID:-//ChamberMaster//Event Calendar 2.0//EN
METHOD:PUBLISH
X-PUBLISHED-TTL:P3D
REFRESH-INTERVAL:P3D
CALSCALE:GREGORIAN
BEGIN:VEVENT
DTSTART:20160921T143000Z
DTEND:20160921T160000Z
X-MICROSOFT-CDO-ALLDAYEVENT:FALSE
SUMMARY:Long Beach Young Professionals Breakfast
DESCRIPTION:DR. NOEL HACEGABA\n\nChief Commercial Officer\n\nPort of Long Beach\, California\n\n \n\nDr. Noel Hacegaba is the Chief Commercial Officer and Managing Director of Operations for the Port of Long Beach.  Prior to his current role\, he served as the Port's Deputy Executive Director and Chief Operating Officer and was responsible for managing the daily business activities of the Port\, including four bureaus\, 17 divisions and 500 employees.  Dr. Hacegaba has 20 years of public and private sector experience spanning a variety of industries. Prior to joining the Port\, he worked for the nation's second-largest environmental services company and managed contracts totaling $200 million. In earlier roles\, he served as a Chief of Staff for an elected official\, a business development executive for a growing international company\, a research analyst for a policy research group and as a management consultant.  \n\n\n\nDr. Hacegaba is a graduate of the University of Southern California and holds degrees in economics\, business administration and urban planning.  He earned a doctorate in public administration from the University of La Verne.  Dr. Hacegaba has also received the professional designations of Certified Port Executive and Port Professional Manager.
X-ALT-DESC;FMTTYPE=text/html:<strong><span style="color:black\;"><span style="font-family:calibri light\;"><span style="font-size:14.0pt\;">DR. NOEL HACEGABA</span></span></span></strong><br />\n<strong><span style="color:black\;"><span style="font-family:calibri light\;"><span style="font-size:10.0pt\;">Chief Commercial Officer<br />\nPort of Long Beach\, California</span></span></span></strong><br />\n&nbsp\;<br />\n<span style="color:black\;"><span style="font-family:calibri light\;">Dr. Noel Hacegaba is the Chief Commercial Officer and Managing Director of Operations for the Port of Long Beach.&nbsp\; Prior to his current role\, he served as the Port&rsquo\;s Deputy Executive Director and Chief Operating Officer and was responsible for managing the daily business activities of the Port\, including four bureaus\, 17 divisions and 500 employees.&nbsp\; Dr. Hacegaba has 20 years of public and private sector experience spanning a variety of industries. Prior to joining the Port\, he worked for the nation&#39\;s second-largest environmental services company and managed contracts totaling $200 million. In earlier roles\, he served as a Chief of Staff for an elected official\, a business development executive for a growing international company\, a research analyst for a policy research group and as a management consultant. &nbsp\;</span></span><br />\n<br />\n<span style="color:black\;"><span style="font-family:calibri light\;">Dr. Hacegaba is a graduate of the University of Southern California and holds degrees in economics\, business administration and urban planning.&nbsp\; He earned a doctorate in public administration from the University of La Verne.&nbsp\; Dr. Hacegaba has also received the professional designations of Certified Port Executive and Port Professional Manager.</span></span>
LOCATION:Holiday Inn - Airport 2640 N Lakewood Blvd Long Beach\, CA 90815
UID:e.1956.3006
SEQUENCE:3
DTSTAMP:20260420T060207Z
URL:https://business.lbchamber.com/events/details/long-beach-young-professionals-breakfast-09-21-2016-3006
END:VEVENT

END:VCALENDAR
