BEGIN:VCALENDAR
VERSION:2.0
PRODID:-//ChamberMaster//Event Calendar 2.0//EN
METHOD:PUBLISH
X-PUBLISHED-TTL:P3D
REFRESH-INTERVAL:P3D
CALSCALE:GREGORIAN
BEGIN:VEVENT
DTSTART:20140529T003000Z
DTEND:20140529T020000Z
X-MICROSOFT-CDO-ALLDAYEVENT:FALSE
SUMMARY:Long Beach Young Professional Kick-Off Reception
DESCRIPTION:Come meet\, mingle and hear about the newest young professionals group in Long Beach: the Long Beach Young Professionals\, a program of the Long Beach Area Chamber of Commerce
X-ALT-DESC;FMTTYPE=text/html:Come meet\, mingle and hear about the newest young professionals group in Long Beach: the Long Beach Young Professionals\, a program of the Long Beach Area Chamber of Commerce&nbsp\;&nbsp\;&nbsp\;&nbsp\;
LOCATION:Keesal\, Young & Logan 400 Oceangate\, 14th Floor Long Beach\, CA 90802
UID:e.1956.1251
SEQUENCE:3
DTSTAMP:20260422T134720Z
URL:https://business.lbchamber.com/events/details/long-beach-young-professional-kick-off-reception-05-28-2014-1251
END:VEVENT

END:VCALENDAR
