BEGIN:VCALENDAR
VERSION:2.0
PRODID:-//ChamberMaster//Event Calendar 2.0//EN
METHOD:PUBLISH
X-PUBLISHED-TTL:P3D
REFRESH-INTERVAL:P3D
CALSCALE:GREGORIAN
BEGIN:VEVENT
DTSTART:20141119T013000Z
DTEND:20141119T033000Z
X-MICROSOFT-CDO-ALLDAYEVENT:FALSE
SUMMARY:Long Beach Travel Mixer
DESCRIPTION:Please join The Chamber for our upcoming travel mixer where you will hear Mali Dunleavy from Chamber Explorations present the exclusive China and Best of Italy trips for the upcoming year. These elite trips are a first come first serve basis. \n\n\n\nAmazing values\, views\, and vacation relaxation!!   \n\n\n\n**Forbidden City will be providing complementary light appetizers and no host bar**
X-ALT-DESC;FMTTYPE=text/html:Please join The Chamber for our upcoming travel mixer where you will hear Mali Dunleavy from Chamber Explorations present the exclusive China and Best of Italy trips for the upcoming year. These elite trips are a first come first serve basis.&nbsp\;<br />\n<br />\nAmazing values\, views\, and vacation relaxation!! &nbsp\;&nbsp\;<br />\n<br />\n**Forbidden City will be providing complementary light appetizers and no host bar**
LOCATION:Forbidden City 6380 E. Pacific Coast Highway Long Beach\, CA 90803
UID:e.1956.2351
SEQUENCE:3
DTSTAMP:20260422T051030Z
URL:https://business.lbchamber.com/events/details/long-beach-travel-mixer-11-18-2014-2351
END:VEVENT

END:VCALENDAR
