BEGIN:VCALENDAR
VERSION:2.0
PRODID:-//ChamberMaster//Event Calendar 2.0//EN
METHOD:PUBLISH
X-PUBLISHED-TTL:P3D
REFRESH-INTERVAL:P3D
CALSCALE:GREGORIAN
BEGIN:VEVENT
DTSTART:20151027T003000Z
DTEND:20151027T023000Z
X-MICROSOFT-CDO-ALLDAYEVENT:FALSE
SUMMARY:Long Beach Travel Mixer
DESCRIPTION:Please join The Chamber for our Travel Mixer on Monday\, October 26th from 5:30 pm - 7:30 pm at Forbidden City in Long Beach\, CA. You will hear from Ian Scott of Central Holidays as he presents an exclusive Cuba trip for the upcoming year.\n\n \n\nThis elite trip is available on a first come first serve basis. Amazing values\, views and vacation relaxation!!
X-ALT-DESC;FMTTYPE=text/html:<div align="left" style="color: rgb(0\, 0\, 0)\; font-family: Arial\, Helvetica\, sans-serif\; font-size: 13.3333px\; line-height: normal\;">Please join The Chamber for our Travel Mixer on Monday\, October 26<sup>th</sup>&nbsp\;from 5:30&nbsp\;pm - 7:30&nbsp\;pm at Forbidden City in Long Beach\, CA. You will hear from Ian Scott of Central Holidays&nbsp\;as he presents an exclusive Cuba trip for the upcoming year.<br />\n&nbsp\;</div>\n\n<div align="left" style="color: rgb(0\, 0\, 0)\; font-family: Arial\, Helvetica\, sans-serif\; font-size: 13.3333px\; line-height: normal\;">This elite trip is available on a first come first serve basis. Amazing values\, views&nbsp\;and vacation relaxation!!</div>\n
LOCATION:Forbidden City 6380A E. Pacific Coast Highway Long Beach CA 90803 Phone: (562) 961-3500
UID:e.1956.2543
SEQUENCE:3
DTSTAMP:20260420T205752Z
URL:https://business.lbchamber.com/events/details/long-beach-travel-mixer-10-26-2015-2543
END:VEVENT

END:VCALENDAR
