BEGIN:VCALENDAR
VERSION:2.0
PRODID:-//ChamberMaster//Event Calendar 2.0//EN
METHOD:PUBLISH
X-PUBLISHED-TTL:P3D
REFRESH-INTERVAL:P3D
CALSCALE:GREGORIAN
BEGIN:VEVENT
DTSTART:20140911T003000Z
DTEND:20140911T020000Z
X-MICROSOFT-CDO-ALLDAYEVENT:FALSE
SUMMARY:Long Beach Travel Mixer
DESCRIPTION:Please join The Chamber for our upcoming Spring travel mixer where you will hear Ian Scott of Central Holidays present the "5 Star Danube River Cruise" and Australia trips. These elite trips are a first come\, first serve basis. Come early to learn about our early bird discount!!!
X-ALT-DESC;FMTTYPE=text/html:Please join The Chamber for our upcoming Spring travel mixer where you will hear Ian Scott of Central Holidays present the &quot\;<em>5 Star Danube River Cruise</em>&quot\; and <em>Australia </em>trips. These elite trips are a first come\, first serve basis. Come early to learn about our early bird discount!!!&nbsp\;&nbsp\;&nbsp\;&nbsp\;
LOCATION:Forbidden City Restaurant 6380A E. Pacific Coast Hwy. Long Beach\, CA 90803 **Forbidden City will be providing complementary light appetizers and no host bar**
UID:e.1956.2290
SEQUENCE:3
DTSTAMP:20260422T075553Z
URL:https://business.lbchamber.com/events/details/long-beach-travel-mixer-09-10-2014-2290
END:VEVENT

END:VCALENDAR
