BEGIN:VCALENDAR
VERSION:2.0
PRODID:-//ChamberMaster//Event Calendar 2.0//EN
METHOD:PUBLISH
X-PUBLISHED-TTL:P3D
REFRESH-INTERVAL:P3D
CALSCALE:GREGORIAN
BEGIN:VEVENT
DTSTART:20150128T013000Z
DTEND:20150128T033000Z
X-MICROSOFT-CDO-ALLDAYEVENT:FALSE
SUMMARY:Long Beach Travel Mixer
DESCRIPTION:Please join The Chamber for our upcoming travel mixer where you will hear presentations on our upcoming trips to India\, Austria\, Turkey\, Croatia\, Danube\, Eastern Europe\, and England\, Scotland & Wales.\n\n\n\nAmazing values\, views\, and vacation relaxation!!   \n\n\n\n**Forbidden City will be providing complementary light appetizers and no host bar**
X-ALT-DESC;FMTTYPE=text/html:Please join The Chamber for our upcoming travel mixer where you will hear presentations on our upcoming trips to India\, Austria\, Turkey\, Croatia\, Danube\, Eastern Europe\, and England\, Scotland &amp\; Wales.<br />\n<br />\nAmazing values\, views\, and vacation relaxation!! &nbsp\;&nbsp\;<br />\n<br />\n**Forbidden City will be providing complementary light appetizers and no host bar**
LOCATION:Forbidden City 6380A E. Pacific Coast Highway Long Beach\, CA 90803
UID:e.1956.2386
SEQUENCE:3
DTSTAMP:20260422T024513Z
URL:https://business.lbchamber.com/events/details/long-beach-travel-mixer-01-27-2015-2386
END:VEVENT

END:VCALENDAR
