BEGIN:VCALENDAR
VERSION:2.0
PRODID:-//ChamberMaster//Event Calendar 2.0//EN
METHOD:PUBLISH
X-PUBLISHED-TTL:P3D
REFRESH-INTERVAL:P3D
CALSCALE:GREGORIAN
BEGIN:VEVENT
DTSTART:20150412T220000Z
DTEND:20150412T230000Z
X-MICROSOFT-CDO-ALLDAYEVENT:FALSE
SUMMARY:Long Beach Symphony: Sounds & Spaces presents ?Percussion at Pyramidial?
DESCRIPTION:Join the Long Beach Symphony Percussion Consortium at MatterApp: Pyrimidial for a FREE chamber music performance. Sited on the CSULB campus between the great blue Walter Pyramid\, the Bob Cole Conservatory of Music and the Dance Center\, this design installation will provide the backdrop and inspiration for an afternoon of percussion music. Ride your bike\, bring a blanket\, a low beach chair and a sun hat and spread out on the lawn and enjoy the performance!
X-ALT-DESC;FMTTYPE=text/html:Join the Long Beach Symphony Percussion Consortium at MatterApp: Pyrimidial for a FREE chamber music performance. Sited on the CSULB campus between the great blue Walter Pyramid\, the Bob Cole Conservatory of Music and the Dance Center\, this design installation will provide the backdrop and inspiration for an afternoon of percussion music. Ride your bike\, bring a blanket\, a low beach chair and a sun hat and spread out on the lawn and enjoy the performance!
LOCATION:California State University Long Beach ? MatterApp: Pyramidial
UID:e.1956.2434
SEQUENCE:3
DTSTAMP:20260424T044024Z
URL:https://business.lbchamber.com/events/details/long-beach-symphony-sounds-spaces-presents-percussion-at-pyramidial-04-12-2015-2434
END:VEVENT

END:VCALENDAR
