BEGIN:VCALENDAR
VERSION:2.0
PRODID:-//ChamberMaster//Event Calendar 2.0//EN
METHOD:PUBLISH
X-PUBLISHED-TTL:P3D
REFRESH-INTERVAL:P3D
CALSCALE:GREGORIAN
BEGIN:VEVENT
DTSTART:20180311T040000Z
DTEND:20180311T060000Z
X-MICROSOFT-CDO-ALLDAYEVENT:FALSE
SUMMARY:Long Beach Symphony: Scottish Fantasy
DESCRIPTION:Eckart Preu\, Conductor Caroline Goulding\, Violin Eric Rigler\, Bagpipes BACH Air on the G String MENDELSSOHN Symphony No. 3\, op. 56\, A minor\, Scottish BRUCH Scottish Fantasy\, op. 46 MAXWELL DAVIES Orkney Wedding with Sunrise
X-ALT-DESC;FMTTYPE=text/html:Eckart Preu\, Conductor Caroline Goulding\, Violin Eric Rigler\, Bagpipes BACH Air on the G String MENDELSSOHN Symphony No. 3\, op. 56\, A minor\, Scottish BRUCH Scottish Fantasy\, op. 46 MAXWELL DAVIES Orkney Wedding with Sunrise
LOCATION:Long Beach Performing Arts Center\, Terrace Theater
UID:e.1956.4162
SEQUENCE:3
DTSTAMP:20260420T171732Z
URL:https://business.lbchamber.com/events/details/long-beach-symphony-scottish-fantasy-4162
END:VEVENT

END:VCALENDAR
