BEGIN:VCALENDAR
VERSION:2.0
PRODID:-//ChamberMaster//Event Calendar 2.0//EN
METHOD:PUBLISH
X-PUBLISHED-TTL:P3D
REFRESH-INTERVAL:P3D
CALSCALE:GREGORIAN
BEGIN:VEVENT
DTSTART:20180603T030000Z
DTEND:20180603T050000Z
X-MICROSOFT-CDO-ALLDAYEVENT:FALSE
SUMMARY:Long Beach Symphony: Rachmaninoff & Tchaikovsky
DESCRIPTION:Eckart Preu\, Conductor Fei-Fei Dong\, Piano GLINKA Kamarinskaya RACHMANINOFF Piano Concerto No. 2\, op. 18\, C minor TCHAIKOVSKY Symphony No. 2\, op. 17\, C minor\, Little Russian
X-ALT-DESC;FMTTYPE=text/html:Eckart Preu\, Conductor Fei-Fei Dong\, Piano GLINKA Kamarinskaya RACHMANINOFF Piano Concerto No. 2\, op. 18\, C minor TCHAIKOVSKY Symphony No. 2\, op. 17\, C minor\, Little Russian
LOCATION:Long Beach Performing Arts Center\, Terrace Theater
UID:e.1956.4164
SEQUENCE:3
DTSTAMP:20260420T131826Z
URL:https://business.lbchamber.com/events/details/long-beach-symphony-rachmaninoff-tchaikovsky-4164
END:VEVENT

END:VCALENDAR
