BEGIN:VCALENDAR
VERSION:2.0
PRODID:-//ChamberMaster//Event Calendar 2.0//EN
METHOD:PUBLISH
X-PUBLISHED-TTL:P3D
REFRESH-INTERVAL:P3D
CALSCALE:GREGORIAN
BEGIN:VEVENT
DTSTART:20180429T030000Z
DTEND:20180429T050000Z
X-MICROSOFT-CDO-ALLDAYEVENT:FALSE
SUMMARY:Long Beach Symphony: Prokofiev's Romeo & Juliet
DESCRIPTION:Eckart Preu\, Conductor Benjamin Beilman\, Violin STRAUSS Don Juan\, op. 20 MOZART Violin Concerto No. 3\, G major HIGDON blue cathedral PROKOFIEV Selections from Romeo & Juliet\, Suites No. 1 & 2
X-ALT-DESC;FMTTYPE=text/html:Eckart Preu\, Conductor Benjamin Beilman\, Violin STRAUSS Don Juan\, op. 20 MOZART Violin Concerto No. 3\, G major HIGDON blue cathedral PROKOFIEV Selections from Romeo &amp\; Juliet\, Suites No. 1 &amp\; 2
LOCATION:Long Beach Performing Arts Center\, Terrace Theater
UID:e.1956.4163
SEQUENCE:3
DTSTAMP:20260420T155156Z
URL:https://business.lbchamber.com/events/details/long-beach-symphony-prokofiev-s-romeo-juliet-4163
END:VEVENT

END:VCALENDAR
