BEGIN:VCALENDAR
VERSION:2.0
PRODID:-//ChamberMaster//Event Calendar 2.0//EN
METHOD:PUBLISH
X-PUBLISHED-TTL:P3D
REFRESH-INTERVAL:P3D
CALSCALE:GREGORIAN
BEGIN:VEVENT
DTSTART:20151011T030000Z
DTEND:20151011T050000Z
X-MICROSOFT-CDO-ALLDAYEVENT:FALSE
SUMMARY:Long Beach Symphony presents Pictures at an Exhibition
DESCRIPTION:Edwin Outwater\, conductor Roger Wilkie\, violin BERLIOZ Roman Carnival Overture LALO Symphonie espagnole MUSSORGSKY/RAVEL Pictures at an Exhibition
X-ALT-DESC;FMTTYPE=text/html:Edwin Outwater\, conductor Roger Wilkie\, violin BERLIOZ Roman Carnival Overture LALO Symphonie espagnole MUSSORGSKY/RAVEL Pictures at an Exhibition
LOCATION:Long Beach Performing Arts Center\, Terrace Theater
UID:e.1956.2518
SEQUENCE:3
DTSTAMP:20260423T223812Z
URL:https://business.lbchamber.com/events/details/long-beach-symphony-presents-pictures-at-an-exhibition-10-10-2015-2518
END:VEVENT

END:VCALENDAR
