BEGIN:VCALENDAR
VERSION:2.0
PRODID:-//ChamberMaster//Event Calendar 2.0//EN
METHOD:PUBLISH
X-PUBLISHED-TTL:P3D
REFRESH-INTERVAL:P3D
CALSCALE:GREGORIAN
BEGIN:VEVENT
DTSTART:20151220T040000Z
DTEND:20151220T060000Z
X-MICROSOFT-CDO-ALLDAYEVENT:FALSE
SUMMARY:Long Beach Symphony presents Holiday Swing Party with Byron Stipling
DESCRIPTION:xpect virtuosic trumpet playing\, raucous audience sing-alongs\, and toe-tapping swing dancing as Byron Stripling brings celebratory orchestral arrangements to our Arena this holiday season. Featuring performances of ?White Christmas\,? ?What a Wonderful World\,? ?I Have A Little Dreidel\,? ?Santa Claus Is Comin? to Town\,? and more! Performance is great for all ages and parties of all sizes\, including corporate holiday parties! Bring your dancing shoes and get ready to jingle!
X-ALT-DESC;FMTTYPE=text/html:xpect virtuosic trumpet playing\, raucous audience sing-alongs\, and toe-tapping swing dancing as Byron Stripling brings celebratory orchestral arrangements to our Arena this holiday season. Featuring performances of ?White Christmas\,? ?What a Wonderful World\,? ?I Have A Little Dreidel\,? ?Santa Claus Is Comin? to Town\,? and more! Performance is great for all ages and parties of all sizes\, including corporate holiday parties! Bring your dancing shoes and get ready to jingle!
LOCATION:Long Beach Arena
UID:e.1956.2525
SEQUENCE:3
DTSTAMP:20260423T203552Z
URL:https://business.lbchamber.com/events/details/long-beach-symphony-presents-holiday-swing-party-with-byron-stipling-12-19-2015-2525
END:VEVENT

END:VCALENDAR
