BEGIN:VCALENDAR
VERSION:2.0
PRODID:-//ChamberMaster//Event Calendar 2.0//EN
METHOD:PUBLISH
X-PUBLISHED-TTL:P3D
REFRESH-INTERVAL:P3D
CALSCALE:GREGORIAN
BEGIN:VEVENT
DTSTART:20151018T030000Z
DTEND:20151018T050000Z
X-MICROSOFT-CDO-ALLDAYEVENT:FALSE
SUMMARY:Long Beach Symphony presents Halloween Symphony Spooktacular!
DESCRIPTION:It?s a night of Halloween musical treats and a few tricks that will keep you on the edge of your seat! Join the Long Beach Symphony POPS! Orchestra for an evening of haunting melodies that will include the works of John Williams\, Bernard Hermann\, James Horner and some other scary surprises. Special appearances by characters from the Queen Mary?s Dark Harbor. Bring a picnic and your favorite libations to enjoy before and during the show! Costumes encouraged!
X-ALT-DESC;FMTTYPE=text/html:It?s a night of Halloween musical treats and a few tricks that will keep you on the edge of your seat! Join the Long Beach Symphony POPS! Orchestra for an evening of haunting melodies that will include the works of John Williams\, Bernard Hermann\, James Horner and some other scary surprises. Special appearances by characters from the Queen Mary?s Dark Harbor. Bring a picnic and your favorite libations to enjoy before and during the show! Costumes encouraged!
LOCATION:Long Beach Arena
UID:e.1956.2524
SEQUENCE:3
DTSTAMP:20260423T223731Z
URL:https://business.lbchamber.com/events/details/long-beach-symphony-presents-halloween-symphony-spooktacular-10-17-2015-2524
END:VEVENT

END:VCALENDAR
