BEGIN:VCALENDAR
VERSION:2.0
PRODID:-//ChamberMaster//Event Calendar 2.0//EN
METHOD:PUBLISH
X-PUBLISHED-TTL:P3D
REFRESH-INTERVAL:P3D
CALSCALE:GREGORIAN
BEGIN:VEVENT
DTSTART:20151115T040000Z
DTEND:20151115T060000Z
X-MICROSOFT-CDO-ALLDAYEVENT:FALSE
SUMMARY:Long Beach Symphony presents An American in Paris
DESCRIPTION:Edward Cumming\, conductor Heather Clark\, flute BERNSTEIN Candide Overture LIEBERMANN Concerto for flute and orchestra TICHELI Radiant Voices GERSHWIN An American in Paris
X-ALT-DESC;FMTTYPE=text/html:Edward Cumming\, conductor Heather Clark\, flute BERNSTEIN Candide Overture LIEBERMANN Concerto for flute and orchestra TICHELI Radiant Voices GERSHWIN An American in Paris
LOCATION:Long Beach Performing Arts Center\, Terrace Theater
UID:e.1956.2519
SEQUENCE:3
DTSTAMP:20260423T213900Z
URL:https://business.lbchamber.com/events/details/long-beach-symphony-presents-an-american-in-paris-11-14-2015-2519
END:VEVENT

END:VCALENDAR
