BEGIN:VCALENDAR
VERSION:2.0
PRODID:-//ChamberMaster//Event Calendar 2.0//EN
METHOD:PUBLISH
X-PUBLISHED-TTL:P3D
REFRESH-INTERVAL:P3D
CALSCALE:GREGORIAN
BEGIN:VEVENT
DTSTART:20150329T030000Z
DTEND:20150329T050000Z
X-MICROSOFT-CDO-ALLDAYEVENT:FALSE
SUMMARY:Long Beach Symphony POPS! presents Rhythms of the Night
DESCRIPTION:Enjoy songs and rhythms from around the world including Brazil\, Cuba\, Polynesia and featuring the music of Jobim\, Tito Puente\, and Sergio Mendes among others. Don't forget to bring your picnic food and drinks to the party! WHAT IS THE POPS!? The Long Beach Symphony POPS! is a fun and friendly way to enjoy an entertaining night out. The concert itself starts at 8pm\, but the doors open at 6:30pm and concert goers are highly encouraged to come early and bring a picnic dinner along with your favorite libations to enjoy before and during the show.
X-ALT-DESC;FMTTYPE=text/html:Enjoy songs and rhythms from around the world including Brazil\, Cuba\, Polynesia and featuring the music of Jobim\, Tito Puente\, and Sergio Mendes among others. Don&#39\;t forget to bring your picnic food and drinks to the party! WHAT IS THE POPS!? The Long Beach Symphony POPS! is a fun and friendly way to enjoy an entertaining night out. The concert itself starts at 8pm\, but the doors open at 6:30pm and concert goers are highly encouraged to come early and bring a picnic dinner along with your favorite libations to enjoy before and during the show.
LOCATION:Long Beach Arena 300 E. Ocean Blvd. Long Beach\, CA 90802
UID:e.1956.2349
SEQUENCE:3
DTSTAMP:20260424T060325Z
URL:https://business.lbchamber.com/events/details/long-beach-symphony-pops-presents-rhythms-of-the-night-03-28-2015-2349
END:VEVENT

END:VCALENDAR
