BEGIN:VCALENDAR
VERSION:2.0
PRODID:-//ChamberMaster//Event Calendar 2.0//EN
METHOD:PUBLISH
X-PUBLISHED-TTL:P3D
REFRESH-INTERVAL:P3D
CALSCALE:GREGORIAN
BEGIN:VEVENT
DTSTART:20150510T030000Z
DTEND:20150510T050000Z
X-MICROSOFT-CDO-ALLDAYEVENT:FALSE
SUMMARY:Long Beach Symphony POPS! presents A Classic Pops Hit Parade
DESCRIPTION:A symphonic Pops celebration of light classical fare\, including Ravel?s Bolero\, Respighi?s Pines of Rome\, and the Festive Overture by Shostakovich. Don't forget to bring your picnic food and drinks to the party! WHAT IS THE POPS!? The Long Beach Symphony POPS! is a fun and friendly way to enjoy an entertaining night out. The concert itself starts at 8pm\, but the doors open at 6:30pm and concert goers are highly encouraged to come early and bring a picnic dinner along with your favorite libations to enjoy before and during the show.
X-ALT-DESC;FMTTYPE=text/html:A symphonic Pops celebration of light classical fare\, including Ravel?s Bolero\, Respighi?s Pines of Rome\, and the Festive Overture by Shostakovich. Don&#39\;t forget to bring your picnic food and drinks to the party! WHAT IS THE POPS!? The Long Beach Symphony POPS! is a fun and friendly way to enjoy an entertaining night out. The concert itself starts at 8pm\, but the doors open at 6:30pm and concert goers are highly encouraged to come early and bring a picnic dinner along with your favorite libations to enjoy before and during the show.
LOCATION:Long Beach Arena 300 E. Ocean Blvd. Long Beach\, CA 90802
UID:e.1956.2350
SEQUENCE:3
DTSTAMP:20260424T033531Z
URL:https://business.lbchamber.com/events/details/long-beach-symphony-pops-presents-a-classic-pops-hit-parade-05-09-2015-2350
END:VEVENT

END:VCALENDAR
