BEGIN:VCALENDAR
VERSION:2.0
PRODID:-//ChamberMaster//Event Calendar 2.0//EN
METHOD:PUBLISH
X-PUBLISHED-TTL:P3D
REFRESH-INTERVAL:P3D
CALSCALE:GREGORIAN
BEGIN:VEVENT
DTSTART:20140316T030000Z
DTEND:20140316T050000Z
X-MICROSOFT-CDO-ALLDAYEVENT:FALSE
SUMMARY:Long Beach Symphony Orchestra POPS! St. Patrick's Party
DESCRIPTION:
X-ALT-DESC;FMTTYPE=text/html:
LOCATION:
UID:e.1956.1200
SEQUENCE:3
DTSTAMP:20260424T222157Z
URL:https://business.lbchamber.com/events/details/long-beach-symphony-orchestra-pops-st-patrick-s-party-03-15-2014-1200
END:VEVENT

END:VCALENDAR
