BEGIN:VCALENDAR
VERSION:2.0
PRODID:-//ChamberMaster//Event Calendar 2.0//EN
METHOD:PUBLISH
X-PUBLISHED-TTL:P3D
REFRESH-INTERVAL:P3D
CALSCALE:GREGORIAN
BEGIN:VEVENT
DTSTART:20140428T000000Z
DTEND:20140428T050000Z
X-MICROSOFT-CDO-ALLDAYEVENT:FALSE
SUMMARY:Long Beach Symphony Orchestra Crescendo 2014 Gala Dinner & Auction
DESCRIPTION:
X-ALT-DESC;FMTTYPE=text/html:
LOCATION:
UID:e.1956.1214
SEQUENCE:3
DTSTAMP:20260424T205631Z
URL:https://business.lbchamber.com/events/details/long-beach-symphony-orchestra-crescendo-2014-gala-dinner-auction-04-27-2014-1214
END:VEVENT

END:VCALENDAR
