BEGIN:VCALENDAR
VERSION:2.0
PRODID:-//ChamberMaster//Event Calendar 2.0//EN
METHOD:PUBLISH
X-PUBLISHED-TTL:P3D
REFRESH-INTERVAL:P3D
CALSCALE:GREGORIAN
BEGIN:VEVENT
DTSTART:20140427T030000Z
DTEND:20140427T060000Z
X-MICROSOFT-CDO-ALLDAYEVENT:FALSE
SUMMARY:Long Beach Symphony Orchestra Concert
DESCRIPTION:
X-ALT-DESC;FMTTYPE=text/html:
LOCATION:
UID:e.1956.1213
SEQUENCE:3
DTSTAMP:20260424T205610Z
URL:https://business.lbchamber.com/events/details/long-beach-symphony-orchestra-concert-04-26-2014-1213
END:VEVENT

END:VCALENDAR
