BEGIN:VCALENDAR
VERSION:2.0
PRODID:-//ChamberMaster//Event Calendar 2.0//EN
METHOD:PUBLISH
X-PUBLISHED-TTL:P3D
REFRESH-INTERVAL:P3D
CALSCALE:GREGORIAN
BEGIN:VEVENT
DTSTART:20180513T030000Z
DTEND:20180513T050000Z
X-MICROSOFT-CDO-ALLDAYEVENT:FALSE
SUMMARY:Long Beach Symphony: Fiesta Finale with Poncho Sanchez
DESCRIPTION:Matt Catingub\, Conductor Poncho Sanchez\, Conga Get on your feet and get ready for a high energy evening of music featuring Poncho Sanchez as he reunites with conductor Matt Catingub to present some of the most exciting latin pop and jazz from the past and present!
X-ALT-DESC;FMTTYPE=text/html:Matt Catingub\, Conductor Poncho Sanchez\, Conga Get on your feet and get ready for a high energy evening of music featuring Poncho Sanchez as he reunites with conductor Matt Catingub to present some of the most exciting latin pop and jazz from the past and present!
LOCATION:Long Beach Arena
UID:e.1956.4169
SEQUENCE:3
DTSTAMP:20260420T143632Z
URL:https://business.lbchamber.com/events/details/long-beach-symphony-fiesta-finale-with-poncho-sanchez-4169
END:VEVENT

END:VCALENDAR
