BEGIN:VCALENDAR
VERSION:2.0
PRODID:-//ChamberMaster//Event Calendar 2.0//EN
METHOD:PUBLISH
X-PUBLISHED-TTL:P3D
REFRESH-INTERVAL:P3D
CALSCALE:GREGORIAN
BEGIN:VEVENT
DTSTART:20180318T030000Z
DTEND:20180318T050000Z
X-MICROSOFT-CDO-ALLDAYEVENT:FALSE
SUMMARY:Long Beach Symphony: Celtic Spirit with Eileen Ivers
DESCRIPTION:Brian Byrne\, Conductor Eileen Ivers\, Fiddle Celebrate Saint Patrick's Day with nine time All- Ireland Fiddle Champion and music star of Riverdance\, Eileen Ivers. Joined by her band\, Immigrant Soul\, they will change the way you think about the violin and Celtic music!
X-ALT-DESC;FMTTYPE=text/html:Brian Byrne\, Conductor Eileen Ivers\, Fiddle Celebrate Saint Patrick&rsquo\;s Day with nine time All- Ireland Fiddle Champion and music star of Riverdance\, Eileen Ivers. Joined by her band\, Immigrant Soul\, they will change the way you think about the violin and Celtic music!
LOCATION:Long Beach Arena
UID:e.1956.4168
SEQUENCE:3
DTSTAMP:20260420T172448Z
URL:https://business.lbchamber.com/events/details/long-beach-symphony-celtic-spirit-with-eileen-ivers-4168
END:VEVENT

END:VCALENDAR
