BEGIN:VCALENDAR
VERSION:2.0
PRODID:-//ChamberMaster//Event Calendar 2.0//EN
METHOD:PUBLISH
X-PUBLISHED-TTL:P3D
REFRESH-INTERVAL:P3D
CALSCALE:GREGORIAN
BEGIN:VEVENT
DTSTART;VALUE=DATE:20140406
DTEND;VALUE=DATE:20140407
TRANSP:TRANSPARENT
X-MICROSOFT-CDO-ALLDAYEVENT:TRUE
SUMMARY:Long Beach Ronald McDonald House Walk for Kids
DESCRIPTION:
X-ALT-DESC;FMTTYPE=text/html:
LOCATION:
UID:e.1956.1208
SEQUENCE:3
DTSTAMP:20260424T205744Z
URL:https://business.lbchamber.com/events/details/long-beach-ronald-mcdonald-house-walk-for-kids-04-06-2014-1208
END:VEVENT

END:VCALENDAR
