BEGIN:VCALENDAR
VERSION:2.0
PRODID:-//ChamberMaster//Event Calendar 2.0//EN
METHOD:PUBLISH
X-PUBLISHED-TTL:P3D
REFRESH-INTERVAL:P3D
CALSCALE:GREGORIAN
BEGIN:VEVENT
DTSTART:20141207T180000Z
DTEND:20141208T000000Z
X-MICROSOFT-CDO-ALLDAYEVENT:FALSE
SUMMARY:Long Beach Remembers Pearl Harbor: Community Sharing Day
DESCRIPTION:Long Beach Remembers Pearl Harbor: 1942-A Year That Changed Our City The HSLB asks the community to share personal items for possible use in an exhibition. We are looking for photographs taken in Long Beach ? letters ? journals - diaries - printed materials ? documents - pay stubs - event programs. Contributors can enjoy refreshments while HSLB staff makes copies of their treasures. And contributors can take items home the same day Please allow 2 hours and call 562.424.2220 for an appointment time. The HSLB is collecting historical materials related to the direct effects on Long Beach as a result of the 1941 Japanese attack at Pearl Harbor. The United States? entrance to World War II had far-reaching effects on Long Beach. This project will explore changes to the local infrastructure\, economy\, and community. Our focus is on ??????????Memorial services for those lost at Pearl Harbor ? ??????????Naval Station and Shipyard ? ??????????Naval Hospital - ??????????Army Air Transport Command Ferrying Division ? ??????????Relocation of Japanese people ? ??????????Civil Air Patrol - ??????????Pearl Harbor survivor groups ? ??????????Shipyard workers ? ??????????Women?s roles ? ??????????Airplane spotters. Some items collected will be used in an exhibition that opens on December 7\, 2016\, the 75th anniversary of the bombing of Pearl Harbor.
X-ALT-DESC;FMTTYPE=text/html:Long Beach Remembers Pearl Harbor: 1942-A Year That Changed Our City The HSLB asks the community to share personal items for possible use in an exhibition. We are looking for photographs taken in Long Beach ? letters ? journals - diaries - printed materials ? documents - pay stubs - event programs. Contributors can enjoy refreshments while HSLB staff makes copies of their treasures. And contributors can take items home the same day Please allow 2 hours and call 562.424.2220 for an appointment time. The HSLB is collecting historical materials related to the direct effects on Long Beach as a result of the 1941 Japanese attack at Pearl Harbor. The United States? entrance to World War II had far-reaching effects on Long Beach. This project will explore changes to the local infrastructure\, economy\, and community. Our focus is on ??????????Memorial services for those lost at Pearl Harbor ? ??????????Naval Station and Shipyard ? ??????????Naval Hospital - ??????????Army Air Transport Command Ferrying Division ? ??????????Relocation of Japanese people ? ??????????Civil Air Patrol - ??????????Pearl Harbor survivor groups ? ??????????Shipyard workers ? ??????????Women?s roles ? ??????????Airplane spotters. Some items collected will be used in an exhibition that opens on December 7\, 2016\, the 75th anniversary of the bombing of Pearl Harbor.
LOCATION:4260 Atlantic Ave. Long Beach\, CA 90807
UID:e.1956.2356
SEQUENCE:3
DTSTAMP:20260424T101405Z
URL:https://business.lbchamber.com/events/details/long-beach-remembers-pearl-harbor-community-sharing-day-12-07-2014-2356
END:VEVENT

END:VCALENDAR
