BEGIN:VCALENDAR
VERSION:2.0
PRODID:-//ChamberMaster//Event Calendar 2.0//EN
METHOD:PUBLISH
X-PUBLISHED-TTL:P3D
REFRESH-INTERVAL:P3D
CALSCALE:GREGORIAN
BEGIN:VEVENT
DTSTART:20180907T190000Z
DTEND:20180910T050000Z
X-MICROSOFT-CDO-ALLDAYEVENT:FALSE
SUMMARY:Long Beach Lobster Festival - Sept. 7-9\, 2018
DESCRIPTION:Lobster are coming to Southern California! The Original Lobster Festival prepares fresh\, live Maine lobsters in the world's largest cooker\, which steams up to a thousand pounds of lobster at a time so there's plenty to go around! And if that's not enough\, you can find all things lobster from lobster rolls to lobster sliders and lobster fries\, lobster bisque\, and even lobster on a stick! Also\, the infamous signature drink\, the "Screaming Lobster\," among other specialty drinks. You can dance it all off to some great live music or at one of the decade parties\, featuring incredible cover bands. If your fancy footwork needs refreshing\, be sure to check out one of the fun dance instructions workshop to get you groovin' all night long. Or sing along to all your favorite songs at the Karaoke Lounge. Festival also features: International food court\, arts & crafts booths\, delicious desserts\, beer & wine gardens\, large dance floor\, VIP?Lounge\, FREE e-Souvenir photos\, live interactive reptile exhibit and a Live Sports Tent where you can experience firsthand the highest-quality picture and heart-pounding sports action like never before while enjoying your lobster feasts. Easily a family-friendly event\, kids can enjoy face painting\, games\, inflatable bounce houses and a comedy magic show.
X-ALT-DESC;FMTTYPE=text/html:Lobster are coming to Southern California! The Original Lobster Festival prepares fresh\, live Maine lobsters in the world&rsquo\;s largest cooker\, which steams up to a thousand pounds of lobster at a time&mdash\;so there&rsquo\;s plenty to go around! And if that&rsquo\;s not enough\, you can find all things lobster from lobster rolls to lobster sliders and lobster fries\, lobster bisque\, and even lobster on a stick! Also\, the infamous signature drink\, the &ldquo\;Screaming Lobster\,&rdquo\; among other specialty drinks. You can dance it all off to some great live music or at one of the decade parties\, featuring incredible cover bands. If your fancy footwork needs refreshing\, be sure to check out one of the fun dance instructions workshop to get you groovin&rsquo\; all night long. Or sing along to all your favorite songs at the Karaoke Lounge. Festival also features: International food court\, arts &amp\; crafts booths\, delicious desserts\, beer &amp\; wine gardens\, large dance floor\, VIP?Lounge\, FREE e-Souvenir photos\, live interactive reptile exhibit and a Live Sports Tent where you can experience firsthand the highest-quality picture and heart-pounding sports action like never before while enjoying your lobster feasts. Easily a family-friendly event\, kids can enjoy face painting\, games\, inflatable bounce houses and a comedy magic show.
LOCATION:Rainbow Lagoon Park 400-403 Shoreline Drive Long Beach\, CA 90802
UID:e.1956.4345
SEQUENCE:3
DTSTAMP:20260420T090937Z
URL:https://business.lbchamber.com/events/details/long-beach-lobster-festival-sept-7-9-2018-4345
END:VEVENT

END:VCALENDAR
