BEGIN:VCALENDAR
VERSION:2.0
PRODID:-//ChamberMaster//Event Calendar 2.0//EN
METHOD:PUBLISH
X-PUBLISHED-TTL:P3D
REFRESH-INTERVAL:P3D
CALSCALE:GREGORIAN
BEGIN:VEVENT
DTSTART:20180922T143000Z
DTEND:20180922T180000Z
X-MICROSOFT-CDO-ALLDAYEVENT:FALSE
SUMMARY:Long Beach Heart Walk
DESCRIPTION:The American Heart Association's Heart & Stroke Walk turns 25! Join the Long Beach Heart & Stroke Walk celebration as we take steps to build healthier lives\, free of heart disease\, stroke and other cardiovascular diseases -- the leading killers in our country. Form a team with friends and family! Learn more at HeartWalkLA.org. See you there!
X-ALT-DESC;FMTTYPE=text/html:The American Heart Association&#39\;s Heart &amp\; Stroke Walk turns 25! Join the Long Beach Heart &amp\; Stroke Walk celebration as we take steps to build healthier lives\, free of heart disease\, stroke and other cardiovascular diseases -- the leading killers in our country. Form a team with friends and family! Learn more at HeartWalkLA.org. See you there!
LOCATION:Rainbow Lagoon Park 400 Shoreline Village Dr\, Long Beach\, CA 90802
UID:e.1956.4321
SEQUENCE:3
DTSTAMP:20260420T085143Z
URL:https://business.lbchamber.com/events/details/long-beach-heart-walk-4321
END:VEVENT

END:VCALENDAR
