BEGIN:VCALENDAR
VERSION:2.0
PRODID:-//ChamberMaster//Event Calendar 2.0//EN
METHOD:PUBLISH
X-PUBLISHED-TTL:P3D
REFRESH-INTERVAL:P3D
CALSCALE:GREGORIAN
BEGIN:VEVENT
DTSTART:20190518T170000Z
DTEND:20190518T210000Z
X-MICROSOFT-CDO-ALLDAYEVENT:FALSE
SUMMARY:Long Beach Day Nursery - Swing for Tots
DESCRIPTION:A 1930's themed affair at the Queen Mary to benefit the children & families of The Long Beach Day Nursery. Will include live entertainment from a band and dancers!
X-ALT-DESC;FMTTYPE=text/html:A 1930&rsquo\;s themed affair at the Queen Mary to benefit the children &amp\; families of The Long Beach Day Nursery. Will include live entertainment from a band and dancers!
LOCATION:The Queen Mary
UID:e.1956.4378
SEQUENCE:3
DTSTAMP:20260419T210718Z
URL:https://business.lbchamber.com/events/details/long-beach-day-nursery-swing-for-tots-4378
END:VEVENT

END:VCALENDAR
