BEGIN:VCALENDAR
VERSION:2.0
PRODID:-//ChamberMaster//Event Calendar 2.0//EN
METHOD:PUBLISH
X-PUBLISHED-TTL:P3D
REFRESH-INTERVAL:P3D
CALSCALE:GREGORIAN
BEGIN:VEVENT
DTSTART:20151209T170000Z
DTEND:20151209T200000Z
X-MICROSOFT-CDO-ALLDAYEVENT:FALSE
SUMMARY:Long Beach Construction Careers Job Fair
DESCRIPTION:The first major hiring event for the new Civic Center is set to be held on Wednesday\, December 9\, 2015\, at the LB Convention Center\, a FREE event for residents seeking work in the construction sector.
X-ALT-DESC;FMTTYPE=text/html:The first major hiring event for the new Civic Center is set to be held on Wednesday\, December 9\, 2015\, at the LB Convention Center\, a FREE event for residents seeking work in the construction sector.
LOCATION:Long Beach Convention Center Seaside Ballroom 300 E. Ocean Blvd. Long Beach\, CA 90802 United States
UID:e.1956.2556
SEQUENCE:3
DTSTAMP:20260423T203640Z
URL:https://business.lbchamber.com/events/details/long-beach-construction-careers-job-fair-12-09-2015-2556
END:VEVENT

END:VCALENDAR
