BEGIN:VCALENDAR
VERSION:2.0
PRODID:-//ChamberMaster//Event Calendar 2.0//EN
METHOD:PUBLISH
X-PUBLISHED-TTL:P3D
REFRESH-INTERVAL:P3D
CALSCALE:GREGORIAN
BEGIN:VEVENT
DTSTART:20150315T010000Z
DTEND:20150315T065500Z
X-MICROSOFT-CDO-ALLDAYEVENT:FALSE
SUMMARY:LONG BEACH COLLECTIVE
DESCRIPTION:Long Beach continues to be a growing community of artists of all mediums. Come join us for a night of local artists and music. There will be live music and a dj. This is a one night event starting at 6:00 pm. Also check out the Long Beach Art Walk\, only blocks away from Yoga on 3rd! Free street parking available. See you there!
X-ALT-DESC;FMTTYPE=text/html:Long Beach continues to be a growing community of artists of all mediums. Come join us for a night of local artists and music. There will be live music and a dj. This is a one night event starting at 6:00 pm. Also check out the Long Beach Art Walk\, only blocks away from Yoga on 3rd! Free street parking available. See you there!
LOCATION:Yoga on 3rd 301 Atlantic Ave\, Long Beach\, California 90802
UID:e.1956.2414
SEQUENCE:3
DTSTAMP:20260424T060203Z
URL:https://business.lbchamber.com/events/details/long-beach-collective-03-14-2015-2414
END:VEVENT

END:VCALENDAR
