BEGIN:VCALENDAR
VERSION:2.0
PRODID:-//ChamberMaster//Event Calendar 2.0//EN
METHOD:PUBLISH
X-PUBLISHED-TTL:P3D
REFRESH-INTERVAL:P3D
CALSCALE:GREGORIAN
BEGIN:VEVENT
DTSTART:20140608T003000Z
DTEND:20140608T040000Z
X-MICROSOFT-CDO-ALLDAYEVENT:FALSE
SUMMARY:Long Beach Cancer League 39th annual Gala
DESCRIPTION:
X-ALT-DESC;FMTTYPE=text/html:
LOCATION:
UID:e.1956.1223
SEQUENCE:3
DTSTAMP:20260424T181528Z
URL:https://business.lbchamber.com/events/details/long-beach-cancer-league-39th-annual-gala-06-07-2014-1223
END:VEVENT

END:VCALENDAR
