BEGIN:VCALENDAR
VERSION:2.0
PRODID:-//ChamberMaster//Event Calendar 2.0//EN
METHOD:PUBLISH
X-PUBLISHED-TTL:P3D
REFRESH-INTERVAL:P3D
CALSCALE:GREGORIAN
BEGIN:VEVENT
DTSTART:20141019T020000Z
DTEND:20141019T060000Z
X-MICROSOFT-CDO-ALLDAYEVENT:FALSE
SUMMARY:Long Beach Aquarium of the Pacific - Sea Fare
DESCRIPTION:
X-ALT-DESC;FMTTYPE=text/html:
LOCATION:
UID:e.1956.1225
SEQUENCE:3
DTSTAMP:20260424T125857Z
URL:https://business.lbchamber.com/events/details/long-beach-aquarium-of-the-pacific-sea-fare-10-18-2014-1225
END:VEVENT

END:VCALENDAR
