BEGIN:VCALENDAR
VERSION:2.0
PRODID:-//ChamberMaster//Event Calendar 2.0//EN
METHOD:PUBLISH
X-PUBLISHED-TTL:P3D
REFRESH-INTERVAL:P3D
CALSCALE:GREGORIAN
BEGIN:VEVENT
DTSTART:20201113T190000Z
DTEND:20201113T200000Z
X-MICROSOFT-CDO-ALLDAYEVENT:FALSE
SUMMARY:Live Q&A: All About Marketing Your Business
DESCRIPTION:Join the Long Beach SBDC for our Live Marketing Q&A addressing questions on how to effectively market and grow your business. SBDC advisor and Business Growth Strategist David Mitroff Ph.D. and Brad Pollak\, Director of the Long Beach SBDC\, will interact live with the audience via Zoom and answer questions covering a broad range of marketing topics including cutting edge marketing ideas\, business development strategies\, how to leverage online platforms to grow your brand\, mind-set and professional growth\, ways to develop strategic partnerships\, event marketing\, business operations\, recruiting\, franchising\, the meaning of life and more.\n\n\n\nThe SBDC hosted by Long Beach City College\n\nThe Small Business Development Center (SBDC) has been hosted by Long Beach City College since 2006 and has helped thousands of area business owners increase their sales\, obtain loans\, streamline operations\, utilize new technologies\, expand into new markets\, and position themselves for long-term growth. We are apart of the Los Angeles Regional SBDC Network\, which assists small business owners throughout the Los Angeles\, Santa Barbara and Ventura Counties. Our experienced SBDC team is comprised of former entrepreneurs\, bankers\, product managers\, technology experts\, and business professionals dedicated to helping you grow your business.\n\n\n\nContact us at 562-938-5100 or go to longbeachsbdc.org/services/we-can-help/ to schedule your appointment.
X-ALT-DESC;FMTTYPE=text/html:<span style="background-image:initial\;background-position:initial\;background-size:initial\;background-repeat:initial\;background-attachment:initial\;background-origin:initial\;background-clip:initial\;"><span style="color:#232333\;"><span style="font-size:10.5pt\;">Join the Long Beach SBDC for our Live Marketing Q&amp\;A addressing questions on how to effectively market and grow your business. SBDC advisor and Business Growth Strategist David Mitroff Ph.D. and Brad Pollak\, Director of the Long Beach SBDC\, will interact live with the audience via Zoom and answer questions covering a broad range of marketing topics including cutting edge marketing ideas\, business development strategies\, how to leverage online platforms to grow your brand\, mind-set and professional growth\, ways to develop strategic partnerships\, event marketing\, business operations\, recruiting\, franchising\, the meaning of life and more.</span></span></span><br />\n<br />\n<span style="color:#232333\;"><span style="font-size:10.5pt\;"><span style="background-image:initial\;background-position:initial\;background-size:initial\;background-repeat:initial\;background-attachment:initial\;background-origin:initial\;background-clip:initial\;">The SBDC hosted by Long Beach City College</span><br />\n<span style="background-image:initial\;background-position:initial\;background-size:initial\;background-repeat:initial\;background-attachment:initial\;background-origin:initial\;background-clip:initial\;">The Small Business Development Center (SBDC) has been hosted by Long Beach City College since 2006 and has helped thousands of area business owners increase their sales\, obtain loans\, streamline operations\, utilize new technologies\, expand into new markets\, and position themselves for long-term growth. We are apart of the Los Angeles Regional SBDC Network\, which assists small business owners throughout the Los Angeles\, Santa Barbara and Ventura Counties. Our experienced SBDC team is comprised of former entrepreneurs\, bankers\, product managers\, technology experts\, and business professionals dedicated to helping you grow your business.</span><br />\n<br />\n<span style="background-image:initial\;background-position:initial\;background-size:initial\;background-repeat:initial\;background-attachment:initial\;background-origin:initial\;background-clip:initial\;">Contact us at 562-938-5100 or go to longbeachsbdc.org/services/we-can-help/ to schedule your appointment.</span></span></span><br />\n&nbsp\;
LOCATION:Virtual (Zoom)
UID:e.1956.4977
SEQUENCE:3
DTSTAMP:20260420T185506Z
URL:https://business.lbchamber.com/events/details/live-q-a-all-about-marketing-your-business-4977
END:VEVENT

END:VCALENDAR
