BEGIN:VCALENDAR
VERSION:2.0
PRODID:-//ChamberMaster//Event Calendar 2.0//EN
METHOD:PUBLISH
X-PUBLISHED-TTL:P3D
REFRESH-INTERVAL:P3D
CALSCALE:GREGORIAN
BEGIN:VEVENT
DTSTART:20161013T003000Z
DTEND:20161013T023000Z
X-MICROSOFT-CDO-ALLDAYEVENT:FALSE
SUMMARY:LBYP Speed Networking Social
DESCRIPTION:Back by popular demand\, it's our 3rd Annual LBYP Speed Networking Social! Download your favorite business card app or bring plenty of the old-fashioned type and have that elevator pitch ready.  Drinks and appetizers will be hosted while taking in the great view from the 23rd floor balcony.
X-ALT-DESC;FMTTYPE=text/html:Back by popular demand\, it&rsquo\;s our 3rd Annual LBYP Speed Networking Social! Download your&nbsp\;favorite business card app or bring plenty of&nbsp\;the old-fashioned type and have that elevator pitch ready. &nbsp\;Drinks and appetizers will be hosted while taking in the&nbsp\;great view from the 23rd floor balcony.
LOCATION:Halbert Hargrove 111 W Ocean Blvd 23rd Floor Long Beach\, CA 90802
UID:e.1956.3021
SEQUENCE:3
DTSTAMP:20260420T042725Z
URL:https://business.lbchamber.com/events/details/lbyp-speed-networking-social-3021
END:VEVENT

END:VCALENDAR
