BEGIN:VCALENDAR
VERSION:2.0
PRODID:-//ChamberMaster//Event Calendar 2.0//EN
METHOD:PUBLISH
X-PUBLISHED-TTL:P3D
REFRESH-INTERVAL:P3D
CALSCALE:GREGORIAN
BEGIN:VEVENT
DTSTART:20160630T003000Z
DTEND:20160630T023000Z
X-MICROSOFT-CDO-ALLDAYEVENT:FALSE
SUMMARY:LBYP Social Port Tour
DESCRIPTION:Long Beach Young Professionals Social\n\nPort of Long Beach Water Tour\n\nMeet at Dock 2 in downtown Long Beach by the Long Beach Aquarium (near 100 Aquarium Way)\n\nParking: Please park in the Aquarium Parking Structure.\n\nParking Validation will be provided.  Bring a light jacket or sweater.\n\nHors d'oeuvers and no-host bar will be provided.\n\n**The boat will depart promptly at 6pm**\n\n\nThis is a LBYP Member only exclusive event!  Space will fill up fast\, so please RSVP as soon as possible!\n\nCut off date is 6/27 at noon or until the list is full.
X-ALT-DESC;FMTTYPE=text/html:Long Beach Young Professionals Social<br />\nPort of Long Beach Water Tour<br />\n<span style="color: rgb(34\, 34\, 34)\; font-family: arial\, sans-serif\; font-size: 12.8px\; line-height: normal\;">Meet at Dock 2 in downtown Long Beach by the Long Beach Aquarium (near 100 Aquarium Way)</span>\n\n<div style="color: rgb(34\, 34\, 34)\; font-family: arial\, sans-serif\; font-size: 12.8px\; line-height: normal\;">Parking: Please park in the Aquarium Parking Structure.</div>\n\n<div style="color: rgb(34\, 34\, 34)\; font-family: arial\, sans-serif\; font-size: 12.8px\; line-height: normal\;">Parking Validation will be provided.&nbsp\; Bring a light jacket or sweater.</div>\n\n<div style="color: rgb(34\, 34\, 34)\; font-family: arial\, sans-serif\; font-size: 12.8px\; line-height: normal\;">Hors d&#39\;oeuvers and no-host bar will be provided.</div>\n\n<div style="color: rgb(34\, 34\, 34)\; font-family: arial\, sans-serif\; font-size: 12.8px\; line-height: normal\;">**The boat will depart promptly at 6pm**</div>\n<br />\nThis is a LBYP Member only exclusive event! &nbsp\;Space will fill up fast\, so please RSVP as soon as possible!<br />\nCut off date is 6/27 at noon or until the list is full.
LOCATION:Port of Long Beach
UID:e.1956.2985
SEQUENCE:3
DTSTAMP:20260422T102355Z
URL:https://business.lbchamber.com/events/details/lbyp-social-port-tour-06-29-2016-2985
END:VEVENT

END:VCALENDAR
