BEGIN:VCALENDAR
VERSION:2.0
PRODID:-//ChamberMaster//Event Calendar 2.0//EN
METHOD:PUBLISH
X-PUBLISHED-TTL:P3D
REFRESH-INTERVAL:P3D
CALSCALE:GREGORIAN
BEGIN:VEVENT
DTSTART:20160428T003000Z
DTEND:20160428T023000Z
X-MICROSOFT-CDO-ALLDAYEVENT:FALSE
SUMMARY:LBYP Social - 04-27-2016
DESCRIPTION:Come join the Long Beach Young Professionals for a fun filled night of networking while in the exclusive SIP Bar + Lounge at Renaissance Long Beach Hotel.  Enjoy delicious hors d'oeuvres\, no host bar\, and make new connections.  We hope to see you there!
X-ALT-DESC;FMTTYPE=text/html:Come join the Long Beach Young Professionals for a fun filled night of networking while in the exclusive SIP Bar + Lounge at Renaissance Long Beach Hotel. &nbsp\;Enjoy delicious hors d&#39\;oeuvres\, no host bar\, and make new connections. &nbsp\;We hope to see you there!
LOCATION:SIP Bar + Lounge at Renaissance Long Beach Hotel. 111 East Ocean Blvd\, Long Beach CA 90802
UID:e.1956.2777
SEQUENCE:3
DTSTAMP:20260420T130900Z
URL:https://business.lbchamber.com/events/details/lbyp-social-04-27-2016-04-27-2016-2777
END:VEVENT

END:VCALENDAR
