BEGIN:VCALENDAR
VERSION:2.0
PRODID:-//ChamberMaster//Event Calendar 2.0//EN
METHOD:PUBLISH
X-PUBLISHED-TTL:P3D
REFRESH-INTERVAL:P3D
CALSCALE:GREGORIAN
BEGIN:VEVENT
DTSTART:20140918T003000Z
DTEND:20140918T020000Z
X-MICROSOFT-CDO-ALLDAYEVENT:FALSE
SUMMARY:LBYP September Social
DESCRIPTION:REGISTRATION IS NOW CLOSED FOR THIS EVENT\n\nHosted appetizers by Hotel Maya and no host bar will be available as LBYP members and invited guests will meet and mingle with other young professionals. No program! This is strictly a fun networking mixer for all to enjoy! Space is limited and you must RSVP!
X-ALT-DESC;FMTTYPE=text/html:<span style="color: rgb(34\, 34\, 34)\; font-family: arial\, sans-serif\; font-size: 13px\; line-height: normal\;"><em>REGISTRATION IS NOW CLOSED FOR THIS EVENT</em><br />\nHosted appetizers by Hotel Maya and no host bar will be available as LBYP members and invited guests will meet and mingle with other young professionals. No program! This is strictly a fun networking mixer for all to enjoy! Space is limited and you must RSVP!</span>
LOCATION:Hotel Maya 700 Queensway Drive Long Beach\, CA
UID:e.1956.2293
SEQUENCE:3
DTSTAMP:20260422T075423Z
URL:https://business.lbchamber.com/events/details/lbyp-september-social-09-17-2014-2293
END:VEVENT

END:VCALENDAR
