BEGIN:VCALENDAR
VERSION:2.0
PRODID:-//ChamberMaster//Event Calendar 2.0//EN
METHOD:PUBLISH
X-PUBLISHED-TTL:P3D
REFRESH-INTERVAL:P3D
CALSCALE:GREGORIAN
BEGIN:VEVENT
DTSTART:20170125T153000Z
DTEND:20170125T170000Z
X-MICROSOFT-CDO-ALLDAYEVENT:FALSE
SUMMARY:LBYP Networking Breakfast
DESCRIPTION:Justin Nelson\n\nA Tony Robbins Peak Performance Strategist\n\n\n\nLearn How To:\n\n\n\n          Activate the driving force that moves you to action and results\n\n          Move through limitations toward resourcefulness\n\n          Cultivate a state of mental strength to overcome barriers\n\n          Inspire strong leadership\n\n          Embrace the power of focus to improve productivity\n\n\n\nJustin advises and consults with Fortune 500 companies\, executives\, managers\, and sales professionals in the areas of Peak Performance\, leadership\, organizational behavior\, psychology of achievement\, and sales. Justin conducts training sessions for distinguished audiences including Toyota\, Ford\, Remax\, Coldwell Banker\, Marriott\, and Chambers of Commerce all over the United States.  Justin uses Tony Robbins's Peak Performance Strategies to help companies to unleash their full human potential.  Justin has a passion for inspiring people and helping them to achieve their full potential and dreams.
X-ALT-DESC;FMTTYPE=text/html:<br />\n<span style="font-size:18px\;"><strong>Justin Nelson<br />\n<em>A Tony Robbins Peak Performance Strategist</em></strong></span><br />\n<br />\nLearn How To:<br />\n<br />\n&nbsp\;&nbsp\; &nbsp\;&nbsp\;&nbsp\; &nbsp\;&bull\; Activate the driving force that moves you to action and results<br />\n&nbsp\;&nbsp\; &nbsp\;&nbsp\;&nbsp\; &nbsp\;&bull\; Move through limitations toward resourcefulness<br />\n&nbsp\;&nbsp\; &nbsp\;&nbsp\;&nbsp\; &nbsp\;&bull\; Cultivate a state of mental strength to overcome barriers<br />\n&nbsp\;&nbsp\; &nbsp\;&nbsp\;&nbsp\; &nbsp\;&bull\; Inspire strong leadership<br />\n&nbsp\;&nbsp\; &nbsp\;&nbsp\;&nbsp\; &nbsp\;&bull\; Embrace the power of focus to improve productivity<br />\n<br />\nJustin advises and consults with Fortune 500 companies\, executives\, managers\, and sales professionals in the areas of Peak Performance\, leadership\, organizational behavior\, psychology of achievement\, and sales. Justin conducts training sessions for distinguished audiences including Toyota\, Ford\, Remax\, Coldwell Banker\, Marriott\, and Chambers of Commerce all over the United States. &nbsp\;Justin uses Tony Robbins&rsquo\;s Peak Performance Strategies to help companies to unleash their full human potential. &nbsp\;Justin has a passion for inspiring people and helping them to achieve their full potential and dreams.
LOCATION:Holiday Inn Long Beach Airport Hotel and Conference Center 2640 N Lakewood Blvd Long Beach CA\, 90815
UID:e.1956.3056
SEQUENCE:3
DTSTAMP:20260419T235348Z
URL:https://business.lbchamber.com/events/details/lbyp-networking-breakfast-3056
END:VEVENT

END:VCALENDAR
