BEGIN:VCALENDAR
VERSION:2.0
PRODID:-//ChamberMaster//Event Calendar 2.0//EN
METHOD:PUBLISH
X-PUBLISHED-TTL:P3D
REFRESH-INTERVAL:P3D
CALSCALE:GREGORIAN
BEGIN:VEVENT
DTSTART:20160724T190000Z
DTEND:20160724T220000Z
X-MICROSOFT-CDO-ALLDAYEVENT:FALSE
SUMMARY:LBYP and RSS Sunday Funday Joint Mixer
DESCRIPTION:Join the Long Beach Young Professionals and the Red Shoe Society Long Beach for a joint mixer with proceeds benefiting the Long Beach Ronald McDonald House.  Guests will enjoy appetizers\, drinks\, and a chance to mix and mingle with two great young professional groups!
X-ALT-DESC;FMTTYPE=text/html:Join the Long Beach Young Professionals and the Red Shoe Society Long Beach for a joint mixer with proceeds benefiting the Long Beach Ronald McDonald House. &nbsp\;Guests will enjoy appetizers\, drinks\, and a chance to mix and mingle with two great young professional groups!&nbsp\;&nbsp\;&nbsp\;&nbsp\;
LOCATION:Hotel Maya private beach - 700 Queensway Drive\, Long Beach CA
UID:e.1956.2983
SEQUENCE:3
DTSTAMP:20260422T082749Z
URL:https://business.lbchamber.com/events/details/lbyp-and-rss-sunday-funday-joint-mixer-07-24-2016-2983
END:VEVENT

END:VCALENDAR
