BEGIN:VCALENDAR
VERSION:2.0
PRODID:-//ChamberMaster//Event Calendar 2.0//EN
METHOD:PUBLISH
X-PUBLISHED-TTL:P3D
REFRESH-INTERVAL:P3D
CALSCALE:GREGORIAN
BEGIN:VEVENT
DTSTART;VALUE=DATE:20140321
DTEND;VALUE=DATE:20140322
TRANSP:TRANSPARENT
X-MICROSOFT-CDO-ALLDAYEVENT:TRUE
SUMMARY:LBCC Hall of Champions Dinner
DESCRIPTION:
X-ALT-DESC;FMTTYPE=text/html:
LOCATION:
UID:e.1956.1201
SEQUENCE:3
DTSTAMP:20260424T222227Z
URL:https://business.lbchamber.com/events/details/lbcc-hall-of-champions-dinner-03-21-2014-1201
END:VEVENT

END:VCALENDAR
