BEGIN:VCALENDAR
VERSION:2.0
PRODID:-//ChamberMaster//Event Calendar 2.0//EN
METHOD:PUBLISH
X-PUBLISHED-TTL:P3D
REFRESH-INTERVAL:P3D
CALSCALE:GREGORIAN
BEGIN:VEVENT
DTSTART:20150717T000000Z
DTEND:20150717T040000Z
X-MICROSOFT-CDO-ALLDAYEVENT:FALSE
SUMMARY:L.A.'s Largest Mixer XVII
DESCRIPTION:Join Los Angeles area chambers and business organizations for L.A.'s Largest and Longest Running Business to Business Networking Event! Mix and mingle with hundreds of exhibitors and thousands of business people representing industries and companies in and around Southern California. \n\n\n\nThe 17th annual L.A.'s Largest Mixer is a great opportunity to reach small to large companies\, meet new clients and learn how the different chambers of commerce and business organizations can make your business grow.
X-ALT-DESC;FMTTYPE=text/html:<span style="color: rgb(34\, 34\, 34)\; font-family: Verdana\, sans-serif\; font-size: 16px\; line-height: normal\;">Join Los Angeles area chambers and business organizations for L.A.&rsquo\;s Largest and Longest Running Business to Business Networking Event! Mix and mingle with hundreds of exhibitors and thousands of business people representing industries and companies in and around Southern California.&nbsp\;</span><br style="color: rgb(34\, 34\, 34)\; font-family: Verdana\, sans-serif\; font-size: 16px\; line-height: normal\;" />\n<br style="color: rgb(34\, 34\, 34)\; font-family: Verdana\, sans-serif\; font-size: 16px\; line-height: normal\;" />\n<span style="color: rgb(34\, 34\, 34)\; font-family: Verdana\, sans-serif\; font-size: 16px\; line-height: normal\;">The 17th annual L.A.&#39\;s Largest Mixer is a great opportunity to reach small to large companies\, meet new clients and learn how the different chambers of commerce and business organizations can make your business grow.</span>
LOCATION:Shrine Auditorium Expo Center 700 W. 32nd St. Los Angeles\, CA 90007
UID:e.1956.2446
SEQUENCE:3
DTSTAMP:20260424T012702Z
URL:https://business.lbchamber.com/events/details/l-a-s-largest-mixer-xvii-07-16-2015-2446
END:VEVENT

END:VCALENDAR
