BEGIN:VCALENDAR
VERSION:2.0
PRODID:-//ChamberMaster//Event Calendar 2.0//EN
METHOD:PUBLISH
X-PUBLISHED-TTL:P3D
REFRESH-INTERVAL:P3D
CALSCALE:GREGORIAN
BEGIN:VEVENT
DTSTART:20140718T000000Z
DTEND:20140718T040000Z
X-MICROSOFT-CDO-ALLDAYEVENT:FALSE
SUMMARY:L.A.'s Largest Mixer XVI
DESCRIPTION:Join Los Angeles County chambers and business organizations plus hundreds of exhibitors for the ultimate business networking event! Mix and mingle with business people representing hundreds of industries and companies in and around Los Angeles County. L.A.'s Largest Mixer  is a great opportunity to reach small to large companies\, meet new clients and learn how the different chambers of commerce and business organizations can make your business grow. Mixer admission: $20 per person at the door (no credit cards or checks) The Largest Mixer  is open to the entire business community.
X-ALT-DESC;FMTTYPE=text/html:Join Los Angeles County chambers and business organizations plus hundreds of exhibitors for the ultimate business networking event! Mix and mingle with business people representing hundreds of industries and companies in and around Los Angeles County. L.A.&#39\;s Largest Mixer&reg\; is a great opportunity to reach small to large companies\, meet new clients and learn how the different chambers of commerce and business organizations can make your business grow. Mixer admission: $20 per person at the door (no credit cards or checks) The Largest Mixer&reg\; is open to the entire business community.
LOCATION:Shrine Auditorium Expo Center 700 W. 32nd Street Los Angeles\, CA 90007
UID:e.1956.1235
SEQUENCE:3
DTSTAMP:20260422T103652Z
URL:https://business.lbchamber.com/events/details/l-a-s-largest-mixer-xvi-07-17-2014-1235
END:VEVENT

END:VCALENDAR
