BEGIN:VCALENDAR
VERSION:2.0
PRODID:-//ChamberMaster//Event Calendar 2.0//EN
METHOD:PUBLISH
X-PUBLISHED-TTL:P3D
REFRESH-INTERVAL:P3D
CALSCALE:GREGORIAN
BEGIN:VEVENT
DTSTART:20141205T180000Z
DTEND:20141207T020000Z
X-MICROSOFT-CDO-ALLDAYEVENT:FALSE
SUMMARY:KOA Holiday Bazaar
DESCRIPTION:Being held in our huge Big Foot Building 120x80 foot. Heated & cozy. Have your photo taken with Santa Games & Food Silent Auction benefiting KOA Care Camps Sending kids with cancer to Camp. Also food drive to benefit Clatsop County Food Bank.
X-ALT-DESC;FMTTYPE=text/html:Being held in our huge Big Foot Building 120x80 foot. Heated &amp\; cozy. Have your photo taken with Santa Games &amp\; Food Silent Auction benefiting KOA Care Camps Sending kids with cancer to Camp. Also food drive to benefit Clatsop County Food Bank.
LOCATION:Astoria Warrenton Seaside KOA 1100 NW Ridge Road Hammond\, Or 97211
UID:e.1956.2336
SEQUENCE:3
DTSTAMP:20260424T101247Z
URL:https://business.lbchamber.com/events/details/koa-holiday-bazaar-12-05-2014-2336
END:VEVENT

END:VCALENDAR
