BEGIN:VCALENDAR
VERSION:2.0
PRODID:-//ChamberMaster//Event Calendar 2.0//EN
METHOD:PUBLISH
X-PUBLISHED-TTL:P3D
REFRESH-INTERVAL:P3D
CALSCALE:GREGORIAN
BEGIN:VEVENT
DTSTART:20141025T010000Z
DTEND:20141102T040000Z
X-MICROSOFT-CDO-ALLDAYEVENT:FALSE
SUMMARY:KOA Haunted Ghost Ship
DESCRIPTION:Only 4 more nights of fun & scares. Little kid friendly if needed\, otherwise be prepared to be scared to death.... Fri & Sat nights 6 -9 Admission is 2 cans of food for the Clatsop County Food Bank.
X-ALT-DESC;FMTTYPE=text/html:Only 4 more nights of fun &amp\; scares. Little kid friendly if needed\, otherwise be prepared to be scared to death.... Fri &amp\; Sat nights 6 -9 Admission is 2 cans of food for the Clatsop County Food Bank.
LOCATION:Astoria Warrenton Seaside KOA 1100 NW Ridge Road Hammond\, Ore 97121
UID:e.1956.2335
SEQUENCE:3
DTSTAMP:20260424T113519Z
URL:https://business.lbchamber.com/events/details/koa-haunted-ghost-ship-10-24-2014-2335
END:VEVENT

END:VCALENDAR
