BEGIN:VCALENDAR
VERSION:2.0
PRODID:-//ChamberMaster//Event Calendar 2.0//EN
METHOD:PUBLISH
X-PUBLISHED-TTL:P3D
REFRESH-INTERVAL:P3D
CALSCALE:GREGORIAN
BEGIN:VEVENT
DTSTART:20180907T010000Z
DTEND:20180907T030000Z
X-MICROSOFT-CDO-ALLDAYEVENT:FALSE
SUMMARY:KICKOFF- Walk to End Alzheimer's- Long Beach
DESCRIPTION:Join us to learn more about Walk to End Alzheimer's \, the mission of the Alzheimer's Association  and how you can help advance the cause by starting a team\, walking as an individual or getting your business visibility!
X-ALT-DESC;FMTTYPE=text/html:Join us to learn more about Walk to End Alzheimer&rsquo\;s&reg\;\, the mission of the Alzheimer&rsquo\;s Association&reg\; and how you can help advance the cause by starting a team\, walking as an individual or getting your business visibility!
LOCATION:Legends Restaurant & Sports Bar 5236 E. 2nd Street\, Long Beach\, CA 90803
UID:e.1956.4338
SEQUENCE:3
DTSTAMP:20260420T101526Z
URL:https://business.lbchamber.com/events/details/kickoff-walk-to-end-alzheimer-s-long-beach-4338
END:VEVENT

END:VCALENDAR
