BEGIN:VCALENDAR
VERSION:2.0
PRODID:-//ChamberMaster//Event Calendar 2.0//EN
METHOD:PUBLISH
X-PUBLISHED-TTL:P3D
REFRESH-INTERVAL:P3D
CALSCALE:GREGORIAN
BEGIN:VEVENT
DTSTART:20141004T193000Z
DTEND:20141005T000000Z
X-MICROSOFT-CDO-ALLDAYEVENT:FALSE
SUMMARY:Kandi Lee / One-Eleven Network Presents: Extraordinary Is Not an Accident!
DESCRIPTION:Kandi Lee has been a guest on numerous television and radio programs across the globe including CNBC's the Big Idea with Donny Deutsch.  "Extraordinary Is Not An Accident" is a unique and proven event that will empower you with the tools and techniques to take your personal\, professional and spiritual life to the Next LEVEL!!! In Addition! Be a part of the Kandi Lee Show! Segments filmed will be featured in an upcoming episode!   Learn Kandi Lee's Top 3 Secrets of Success. During this Event You Will Learn How To: Think Differently to Create Different Results\, Breakthrough Your Limiting Beliefs\, Set & Exceed Your Extraordinary Goals   With Tools & Techniques YOU can Apply Immediately to Boost Your Business Productivity\, Culture & Environment
X-ALT-DESC;FMTTYPE=text/html:Kandi Lee has been a guest on numerous television and radio programs across the globe including CNBC&#39\;s the Big Idea with Donny Deutsch. &nbsp\;&quot\;Extraordinary Is Not An Accident&quot\; is a unique and proven event that will empower you with the tools and techniques to take your personal\, professional and spiritual life to the Next LEVEL!!! In Addition! Be a part of the Kandi Lee Show! Segments filmed will be featured in an upcoming episode! &nbsp\; Learn Kandi Lee&#39\;s Top 3 Secrets of Success. During this Event You Will Learn How To: Think Differently to Create Different Results\, Breakthrough Your Limiting Beliefs\, Set &amp\; Exceed Your Extraordinary Goals &nbsp\; With Tools &amp\; Techniques YOU can Apply Immediately to Boost Your Business Productivity\, Culture &amp\; Environment &nbsp\;
LOCATION:Landmark Square 111 W Ocean Blvd.\, 16th Floor Long Beach\, California 90802
UID:e.1956.1280
SEQUENCE:3
DTSTAMP:20260424T130313Z
URL:https://business.lbchamber.com/events/details/kandi-lee-one-eleven-network-presents-extraordinary-is-not-an-accident-10-04-2014-1280
END:VEVENT

END:VCALENDAR
