BEGIN:VCALENDAR
VERSION:2.0
PRODID:-//ChamberMaster//Event Calendar 2.0//EN
METHOD:PUBLISH
X-PUBLISHED-TTL:P3D
REFRESH-INTERVAL:P3D
CALSCALE:GREGORIAN
BEGIN:VEVENT
DTSTART:20210708T230000Z
DTEND:20210709T000000Z
X-MICROSOFT-CDO-ALLDAYEVENT:FALSE
SUMMARY:Joint Thirsty Thursday Speed Networking with Greater San Fernando Valley Chamber
DESCRIPTION:Joint Thirsty Thursday with the Greater San Fernando Valley Chamber\n\n\n\nEnd your work day by connecting with your fellow LA-area Businesses!  Grab your favorite drink & join us Thursday from 4:00 p.m to 5:00 pm for our virtual networking happy hour.  Conducted in a Speed Networking format\, we look forward to seeing you there!
X-ALT-DESC;FMTTYPE=text/html:<span style="font-size: 16px\;"><strong>Joint Thirsty Thursday with the Greater San Fernando Valley Chamber</strong></span><br />\n<br />\n<span style="font-size: 16px\;">End your work day by connecting with your fellow LA-area Businesses!&nbsp\; Grab your favorite drink &amp\; join us Thursday from 4:00 p.m&nbsp\;to 5:00 pm for our virtual networking happy hour.&nbsp\; Conducted in a Speed Networking format\, we&nbsp\;look forward to seeing you there!</span>
LOCATION:Virtual
UID:e.1956.5168
SEQUENCE:3
DTSTAMP:20260420T075522Z
URL:https://business.lbchamber.com/events/details/joint-thirsty-thursday-speed-networking-with-greater-san-fernando-valley-chamber-5168
END:VEVENT

END:VCALENDAR
