BEGIN:VCALENDAR
VERSION:2.0
PRODID:-//ChamberMaster//Event Calendar 2.0//EN
METHOD:PUBLISH
X-PUBLISHED-TTL:P3D
REFRESH-INTERVAL:P3D
CALSCALE:GREGORIAN
BEGIN:VEVENT
DTSTART:20161209T013000Z
DTEND:20161209T033000Z
X-MICROSOFT-CDO-ALLDAYEVENT:FALSE
SUMMARY:Joint Business Councils Holiday Mixer
DESCRIPTION:Joint Business Councils Holiday Mixer\n\n\n\nLive Music! - The Funny Valentines\, sponsored by Environ Architecture!\n\n\n\nThis year's charity is Pathways to Independence!  If you are interested in donating to this organization\, suggested items are: gift cards to Target or grocery stores\, purses and totes\, scarves\, throws/blankets\, pretty journals\, make-up organizer box\, picture frames\, art therapy coloring books\, meditation tools.
X-ALT-DESC;FMTTYPE=text/html:<p><strong><span style="font-size:16px\;">Joint Business Councils Holiday Mixer</span><br />\n<br />\nLive Music! - The Funny Valentines\, sponsored by Environ Architecture!</strong><br />\n<br />\nThis year&#39\;s charity is <a href="http://pathwaystoindependence.org/">Pathways to Independence</a>! &nbsp\;If you are interested in donating to this organization\, suggested items are:&nbsp\;<span style="font-size: 10.5pt\; font-family: Calibri\, sans-serif\; background-image: initial\; background-position: initial\; background-size: initial\; background-repeat: initial\; background-attachment: initial\; background-origin: initial\; background-clip: initial\;">gift cards to Target or grocery stores\, purses and totes\, scarves\, throws/blankets\, pretty journals\, make-up organizer box\, picture frames\, art therapy coloring books\, meditation tools.</span></p>\n
LOCATION:Long Beach Airport Marriott Tamarindo's Margarita Bar & Cantina 4700 Airport Plaza Drive\, LB\, 90815 Plenty of open parking
UID:e.1956.3050
SEQUENCE:3
DTSTAMP:20260420T012414Z
URL:https://business.lbchamber.com/events/details/joint-business-councils-holiday-mixer-3050
END:VEVENT

END:VCALENDAR
